BEGIN:VCALENDAR
VERSION:2.0
PRODID:-// - ECPv6.15.20//NONSGML v1.0//EN
CALSCALE:GREGORIAN
METHOD:PUBLISH
X-ORIGINAL-URL:https://lauradee.de
X-WR-CALDESC:Veranstaltungen für 
REFRESH-INTERVAL;VALUE=DURATION:PT1H
X-Robots-Tag:noindex
X-PUBLISHED-TTL:PT1H
BEGIN:VTIMEZONE
TZID:UTC
BEGIN:STANDARD
TZOFFSETFROM:+0000
TZOFFSETTO:+0000
TZNAME:UTC
DTSTART:20250101T000000
END:STANDARD
END:VTIMEZONE
BEGIN:VEVENT
DTSTART;TZID=UTC:20261211T193000
DTEND;TZID=UTC:20261211T213000
DTSTAMP:20260422T235248
CREATED:20260208T180313Z
LAST-MODIFIED:20260420T144508Z
UID:1018-1797017400-1797024600@lauradee.de
SUMMARY:«Courageuses»  im Centre Bagatelle
DESCRIPTION:Im denkmalgeschützten Kulturhaus Centre Bagatelle im Norden Berlins wird ein abwechslungsreiches Kulturprogramm mit Konzerten\, Lesungen\, Vorträgen\, Ausstellungen und einem kulturellen Angebot für Kinder und Jugendliche angeboten. Nun wurde mir gesagt\, dass nun auch endlich wieder mehr Französischsprachiges angeboten werden soll. \nEt voilà – da mach ich mit!
URL:https://lauradee.de/konzert/laura-dee-courageuses-im-centre-bagatelle/
LOCATION:Centre Bagatelle
END:VEVENT
END:VCALENDAR