BEGIN:VCALENDAR
VERSION:2.0
PRODID:-// - ECPv6.15.20//NONSGML v1.0//EN
CALSCALE:GREGORIAN
METHOD:PUBLISH
X-ORIGINAL-URL:https://lauradee.de
X-WR-CALDESC:Veranstaltungen für 
REFRESH-INTERVAL;VALUE=DURATION:PT1H
X-Robots-Tag:noindex
X-PUBLISHED-TTL:PT1H
BEGIN:VTIMEZONE
TZID:UTC
BEGIN:STANDARD
TZOFFSETFROM:+0000
TZOFFSETTO:+0000
TZNAME:UTC
DTSTART:20250101T000000
END:STANDARD
END:VTIMEZONE
BEGIN:VEVENT
DTSTART;TZID=UTC:20260510T113000
DTEND;TZID=UTC:20260510T130000
DTSTAMP:20260422T115045
CREATED:20250706T204257Z
LAST-MODIFIED:20260414T120846Z
UID:517-1778412600-1778418000@lauradee.de
SUMMARY:«Courageuses» - Tour à Berlin-Köpenick:  «Après Church»
DESCRIPTION:Open Air Bühne mit Spreeblick\, einfach traumhaft! La scène en plein air\, la vue donne sur la Spree. Merveilleux! \nEintritt frei\, Künstlerspende. Entrée libre\, chapeau pour l’artiste.
URL:https://lauradee.de/konzert/laura-dee-beim-apres-church/
LOCATION:Kunsthof Köpenick\, Berlin-Köpenick
END:VEVENT
BEGIN:VEVENT
DTSTART;TZID=UTC:20260514T183000
DTEND;TZID=UTC:20260514T200000
DTSTAMP:20260422T115045
CREATED:20260103T074243Z
LAST-MODIFIED:20260110T231014Z
UID:976-1778783400-1778788800@lauradee.de
SUMMARY:Laura Dee - KLP 2026 Beesem
DESCRIPTION:Laura Dee liebt das Wendland und diese Liebe ist gegenseitig: Dieses Jahr gibt Laura an Himmelfahrt 4 Konzerte an 3 Orten! Den Auftakt macht Beesem\, ein wunderschöner kunstvoller Hof mit einer zauberhaften Außenbühne\, allerlei Kuriosem und Schönem!
URL:https://lauradee.de/konzert/laura-dee-klp-2026-beesem/
LOCATION:Beesem\, Beesem 20\, Luckau\, 29487\, Germany
END:VEVENT
BEGIN:VEVENT
DTSTART;TZID=UTC:20260515T170000
DTEND;TZID=UTC:20260515T180000
DTSTAMP:20260422T115045
CREATED:20260103T074333Z
LAST-MODIFIED:20260103T074333Z
UID:978-1778864400-1778868000@lauradee.de
SUMMARY:Laura Dee - KLP 2026 - Beesem 2
DESCRIPTION:Laura Dee liebt das Wendland und diese Liebe ist gegenseitig: Dieses Jahr gibt Laura an Himmelfahrt 4 Konzerte an 3 Orten! Den Auftakt macht Beesem\, ein wunderschöner kunstvoller Hof mit einer zauberhaften Außenbühne\, allerlei Kuriosem und Schönem!
URL:https://lauradee.de/konzert/laura-dee-klp-2026-beesem-2/
LOCATION:Beesem\, Beesem 20\, Luckau\, 29487\, Germany
END:VEVENT
BEGIN:VEVENT
DTSTART;TZID=UTC:20260516T000000
DTEND;TZID=UTC:20260516T130000
DTSTAMP:20260422T115045
CREATED:20260103T074958Z
LAST-MODIFIED:20260103T083237Z
UID:980-1778889600-1778936400@lauradee.de
SUMMARY:Laura Dee - KLP 2026 - Breese im Bruche
DESCRIPTION:Laura Dee liebt das Wendland und diese Liebe ist gegenseitig: Dieses Jahr gibt Laura an Himmelfahrt 4 Konzerte an 3 Orten! Dieses mal neu in Breese im Bruche: Es gibt einen Hofladen\,  Rinder\,  Gemüse und eine\nHoforganismus-Führung. Natürlich gibt es auch eine Open Air Bühne mit Flair!
URL:https://lauradee.de/konzert/laura-bei-der-klp-2026-breese-im-bruche/
LOCATION:Hof Birkenbruch\, Breese im Bruche 6\, Jameln\, Niedersachsen\, 29479\, Germany
END:VEVENT
BEGIN:VEVENT
DTSTART;TZID=UTC:20260516T200000
DTEND;TZID=UTC:20260516T213000
DTSTAMP:20260422T115045
CREATED:20250926T155634Z
LAST-MODIFIED:20260103T075221Z
UID:829-1778961600-1778967000@lauradee.de
SUMMARY:Laura Dee - KLP 2026 - Neu Tramm
DESCRIPTION:KLP zur Primetime – ein Samstagabend\, wie schön! \nRaum 2 ist bereits seit Jahren eine «belle tradition»! \nEintritt frei\, Spende erbeten. \n 
URL:https://lauradee.de/konzert/courageuses-in-neu-tramm/
LOCATION:Raum 2\, Neu-Tramm 3\, Dannenberg (Elbe)\, Niedersachsen\, 29451\, Germany
END:VEVENT
BEGIN:VEVENT
DTSTART;TZID=UTC:20260606T080000
DTEND;TZID=UTC:20260606T170000
DTSTAMP:20260422T115045
CREATED:20260419T160924Z
LAST-MODIFIED:20260420T144323Z
UID:1079-1780732800-1780765200@lauradee.de
SUMMARY:Laura Dee - Wohnzimmerkonzert in Wunsiedel
DESCRIPTION:Philipp Riedel ist ein wunderbarer Liedermacher\, den ich bei „Symphonische Chansons“ von Sebastian Krämer traf\, weil auch er dort mit einem Lied auftrat. Er und seine Frau veranstalten in ihrem Wohnzimmer in Wunsiedel regelmäßig herrliche Wohnzimmerkonzerte und ich bin zu Gast. \nEintritt ca. 35 €\, begrenzte Plätze. \nBei Interesse Email an: lauradeesongs@gmail.com
URL:https://lauradee.de/konzert/laura-dee-wohnzimmerkonzert-in-wunsiedel/
END:VEVENT
BEGIN:VEVENT
DTSTART;TZID=UTC:20260812T080000
DTEND;TZID=UTC:20260812T220000
DTSTAMP:20260422T115045
CREATED:20250706T204851Z
LAST-MODIFIED:20260209T071813Z
UID:520-1786521600-1786572000@lauradee.de
SUMMARY:«Courageuses»-Tour à "Höhr-Grenzhausen"
DESCRIPTION:Ich hörte\, das sei wunderschön und direkt neben Koblenz. Ein Amphitheater veranstaltet ein Festival und ich bin dabei\, „Treffpunkt Kannenofen“ der gemütliche Titel. Et voilà!
URL:https://lauradee.de/konzert/laura-dee-bei-treffpunkt-kannenofen/
LOCATION:Kannenofen\, Höhr-Grenzhausen
ORGANIZER;CN="Kulturzentrum 'Zweite Heimat'":MAILTO:info@juz-zweiteheimat.de
END:VEVENT
BEGIN:VEVENT
DTSTART;TZID=UTC:20260813T203000
DTEND;TZID=UTC:20260813T220000
DTSTAMP:20260422T115045
CREATED:20260420T144349Z
LAST-MODIFIED:20260420T144349Z
UID:1083-1786653000-1786658400@lauradee.de
SUMMARY:«Courageuses» – Tour à Basel (CH)
DESCRIPTION:Im „Kleinen Wassermann“ spiele ich immer wahnsinnig gerne. Es ist wie Urlaub am Rhein. Vorm Auftritt schwimme ich auch darin. Und vielleicht versenke ich auch mein portable darin\, dann ist endlich Ruh!
URL:https://lauradee.de/konzert/courageuses-tour-a-basel-ch/
LOCATION:Kleiner Wassermann\, St. Johanns-Park 1\, Basel\, 4046\, Switzerland
END:VEVENT
BEGIN:VEVENT
DTSTART;TZID=UTC:20261211T193000
DTEND;TZID=UTC:20261211T213000
DTSTAMP:20260422T115045
CREATED:20260208T180313Z
LAST-MODIFIED:20260420T144508Z
UID:1018-1797017400-1797024600@lauradee.de
SUMMARY:«Courageuses»  im Centre Bagatelle
DESCRIPTION:Im denkmalgeschützten Kulturhaus Centre Bagatelle im Norden Berlins wird ein abwechslungsreiches Kulturprogramm mit Konzerten\, Lesungen\, Vorträgen\, Ausstellungen und einem kulturellen Angebot für Kinder und Jugendliche angeboten. Nun wurde mir gesagt\, dass nun auch endlich wieder mehr Französischsprachiges angeboten werden soll. \nEt voilà – da mach ich mit!
URL:https://lauradee.de/konzert/laura-dee-courageuses-im-centre-bagatelle/
LOCATION:Centre Bagatelle
END:VEVENT
END:VCALENDAR