BEGIN:VCALENDAR
VERSION:2.0
PRODID:-// - ECPv6.15.20//NONSGML v1.0//EN
CALSCALE:GREGORIAN
METHOD:PUBLISH
X-ORIGINAL-URL:https://lauradee.de
X-WR-CALDESC:Veranstaltungen für 
REFRESH-INTERVAL;VALUE=DURATION:PT1H
X-Robots-Tag:noindex
X-PUBLISHED-TTL:PT1H
BEGIN:VTIMEZONE
TZID:UTC
BEGIN:STANDARD
TZOFFSETFROM:+0000
TZOFFSETTO:+0000
TZNAME:UTC
DTSTART:20250101T000000
END:STANDARD
END:VTIMEZONE
BEGIN:VEVENT
DTSTART;TZID=UTC:20260606T080000
DTEND;TZID=UTC:20260606T170000
DTSTAMP:20260422T180630
CREATED:20260419T160924Z
LAST-MODIFIED:20260420T144323Z
UID:1079-1780732800-1780765200@lauradee.de
SUMMARY:Laura Dee - Wohnzimmerkonzert in Wunsiedel
DESCRIPTION:Philipp Riedel ist ein wunderbarer Liedermacher\, den ich bei „Symphonische Chansons“ von Sebastian Krämer traf\, weil auch er dort mit einem Lied auftrat. Er und seine Frau veranstalten in ihrem Wohnzimmer in Wunsiedel regelmäßig herrliche Wohnzimmerkonzerte und ich bin zu Gast. \nEintritt ca. 35 €\, begrenzte Plätze. \nBei Interesse Email an: lauradeesongs@gmail.com
URL:https://lauradee.de/konzert/laura-dee-wohnzimmerkonzert-in-wunsiedel/
END:VEVENT
END:VCALENDAR