BEGIN:VCALENDAR
VERSION:2.0
PRODID:-// - ECPv6.15.20//NONSGML v1.0//EN
CALSCALE:GREGORIAN
METHOD:PUBLISH
X-ORIGINAL-URL:https://lauradee.de
X-WR-CALDESC:Veranstaltungen für 
REFRESH-INTERVAL;VALUE=DURATION:PT1H
X-Robots-Tag:noindex
X-PUBLISHED-TTL:PT1H
BEGIN:VTIMEZONE
TZID:UTC
BEGIN:STANDARD
TZOFFSETFROM:+0000
TZOFFSETTO:+0000
TZNAME:UTC
DTSTART:20250101T000000
END:STANDARD
END:VTIMEZONE
BEGIN:VEVENT
DTSTART;TZID=UTC:20260515T170000
DTEND;TZID=UTC:20260515T180000
DTSTAMP:20260422T164152
CREATED:20260103T074333Z
LAST-MODIFIED:20260103T074333Z
UID:978-1778864400-1778868000@lauradee.de
SUMMARY:Laura Dee - KLP 2026 - Beesem 2
DESCRIPTION:Laura Dee liebt das Wendland und diese Liebe ist gegenseitig: Dieses Jahr gibt Laura an Himmelfahrt 4 Konzerte an 3 Orten! Den Auftakt macht Beesem\, ein wunderschöner kunstvoller Hof mit einer zauberhaften Außenbühne\, allerlei Kuriosem und Schönem!
URL:https://lauradee.de/konzert/laura-dee-klp-2026-beesem-2/
LOCATION:Beesem\, Beesem 20\, Luckau\, 29487\, Germany
END:VEVENT
END:VCALENDAR