BEGIN:VCALENDAR
VERSION:2.0
PRODID:-// - ECPv6.15.20//NONSGML v1.0//EN
CALSCALE:GREGORIAN
METHOD:PUBLISH
X-ORIGINAL-URL:https://lauradee.de
X-WR-CALDESC:Veranstaltungen für 
REFRESH-INTERVAL;VALUE=DURATION:PT1H
X-Robots-Tag:noindex
X-PUBLISHED-TTL:PT1H
BEGIN:VTIMEZONE
TZID:UTC
BEGIN:STANDARD
TZOFFSETFROM:+0000
TZOFFSETTO:+0000
TZNAME:UTC
DTSTART:20250101T000000
END:STANDARD
END:VTIMEZONE
BEGIN:VEVENT
DTSTART;TZID=UTC:20260417T190000
DTEND;TZID=UTC:20260417T220000
DTSTAMP:20260422T145854
CREATED:20260120T120340Z
LAST-MODIFIED:20260401T122847Z
UID:991-1776452400-1776463200@lauradee.de
SUMMARY:French & Female Vibes in Kreuzkölln mit Vero Nouk
DESCRIPTION:„French & Female Vibes“ geht in die 4. Runde! \nLaura Dee & Vero Nouk spielen im zauberhaften Kulturcafé Neukölln. \nEintritt frei mit raschelnder Hutkasse.
URL:https://lauradee.de/konzert/french-female-vibes-in-kreuzkoelln/
LOCATION:Kulturcafe Neukölln\, Friedelstr. 28\, Berlin\, Berlin\, 12047\, Germany
ORGANIZER;CN="Kulturcafe Neuk%C3%B6lln":MAILTO:krautrock@kulturcafe-neukoelln.de
END:VEVENT
END:VCALENDAR