BEGIN:VCALENDAR
VERSION:2.0
PRODID:-// - ECPv6.15.20//NONSGML v1.0//EN
CALSCALE:GREGORIAN
METHOD:PUBLISH
X-ORIGINAL-URL:https://lauradee.de
X-WR-CALDESC:Veranstaltungen für 
REFRESH-INTERVAL;VALUE=DURATION:PT1H
X-Robots-Tag:noindex
X-PUBLISHED-TTL:PT1H
BEGIN:VTIMEZONE
TZID:UTC
BEGIN:STANDARD
TZOFFSETFROM:+0000
TZOFFSETTO:+0000
TZNAME:UTC
DTSTART:20250101T000000
END:STANDARD
END:VTIMEZONE
BEGIN:VEVENT
DTSTART;TZID=UTC:20260411T190000
DTEND;TZID=UTC:20260411T210000
DTSTAMP:20260422T150015
CREATED:20250903T134645Z
LAST-MODIFIED:20260121T115800Z
UID:814-1775934000-1775941200@lauradee.de
SUMMARY:«Courageuses» - Tour  Aachen
DESCRIPTION:Das französische Album zwischen Deutschland und Belgien im „Kukuk an der Grenze“ – passender geht es kaum.
URL:https://lauradee.de/konzert/courageuses-tour-aachen/
LOCATION:Kukuk an der Grenze\, ehem. deutsches Zollhaus\, Eupener Str. 420\,\, Aachen\, 52076
END:VEVENT
END:VCALENDAR