BEGIN:VCALENDAR
VERSION:2.0
PRODID:-// - ECPv6.15.20//NONSGML v1.0//EN
CALSCALE:GREGORIAN
METHOD:PUBLISH
X-ORIGINAL-URL:https://lauradee.de
X-WR-CALDESC:Veranstaltungen für 
REFRESH-INTERVAL;VALUE=DURATION:PT1H
X-Robots-Tag:noindex
X-PUBLISHED-TTL:PT1H
BEGIN:VTIMEZONE
TZID:UTC
BEGIN:STANDARD
TZOFFSETFROM:+0000
TZOFFSETTO:+0000
TZNAME:UTC
DTSTART:20250101T000000
END:STANDARD
END:VTIMEZONE
BEGIN:VEVENT
DTSTART;TZID=UTC:20260408T193000
DTEND;TZID=UTC:20260408T210000
DTSTAMP:20260422T150812
CREATED:20250826T194307Z
LAST-MODIFIED:20260304T174021Z
UID:800-1775676600-1775682000@lauradee.de
SUMMARY:«Courageuses» - Tour à Saarbrücken\, support: Khôl
DESCRIPTION:Tickets: https://dastiv.de/2026-04-08_laura-dee-und-khol/\nDas Theater im Viertel an der deutsch-französischen Grenze begrüßt Laura Dee! \nSupport: Khôl (Lorraine)\, eine hochinteressante Musikerin. Taucht ein in ihr musikalisches Universum: https://www.youtube.com/watch?v=N-anwmd6wfk \nLe théâtre dans le coin (TIV) à la frontière franco-allemande reçoit Laura Dee! 1ère partie: Khôl (Lorraine)\, une musicienne très intéressante\, plongez dans son univers musical: https://www.youtube.com/watch?v=N-anwmd6wfk \n 
URL:https://lauradee.de/konzert/courageuses-theater-im-viertel/
LOCATION:Theater im Viertel\, Landwehrplatz 2\, Saarbrücken\, 66111
END:VEVENT
END:VCALENDAR