BEGIN:VCALENDAR
VERSION:2.0
PRODID:-// - ECPv6.15.20//NONSGML v1.0//EN
CALSCALE:GREGORIAN
METHOD:PUBLISH
X-ORIGINAL-URL:https://lauradee.de
X-WR-CALDESC:Veranstaltungen für 
REFRESH-INTERVAL;VALUE=DURATION:PT1H
X-Robots-Tag:noindex
X-PUBLISHED-TTL:PT1H
BEGIN:VTIMEZONE
TZID:UTC
BEGIN:STANDARD
TZOFFSETFROM:+0000
TZOFFSETTO:+0000
TZNAME:UTC
DTSTART:20250101T000000
END:STANDARD
END:VTIMEZONE
BEGIN:VEVENT
DTSTART;TZID=UTC:20260321T200000
DTEND;TZID=UTC:20260321T200000
DTSTAMP:20260422T181603
CREATED:20250706T204104Z
LAST-MODIFIED:20250706T204104Z
UID:514-1774123200-1774123200@lauradee.de
SUMMARY:Laura Dee in der "Alten Schmiede"
DESCRIPTION:Konzert im Wendland\, Veranstaltung von „Sprechzimmer on Tour“.
URL:https://lauradee.de/konzert/laura-dee-in-der-alten-schmiede/
LOCATION:Alte Schmiede\, Zernien\, Göhrdestraße 24\, Zernien\, 29499
END:VEVENT
END:VCALENDAR