BEGIN:VCALENDAR
VERSION:2.0
PRODID:-// - ECPv6.15.20//NONSGML v1.0//EN
CALSCALE:GREGORIAN
METHOD:PUBLISH
X-ORIGINAL-URL:https://lauradee.de
X-WR-CALDESC:Veranstaltungen für 
REFRESH-INTERVAL;VALUE=DURATION:PT1H
X-Robots-Tag:noindex
X-PUBLISHED-TTL:PT1H
BEGIN:VTIMEZONE
TZID:UTC
BEGIN:STANDARD
TZOFFSETFROM:+0000
TZOFFSETTO:+0000
TZNAME:UTC
DTSTART:20250101T000000
END:STANDARD
END:VTIMEZONE
BEGIN:VEVENT
DTSTART;TZID=UTC:20260312T080000
DTEND;TZID=UTC:20260312T233000
DTSTAMP:20260422T163947
CREATED:20260227T183958Z
LAST-MODIFIED:20260227T184014Z
UID:1033-1773302400-1773358200@lauradee.de
SUMMARY:Hamburg: Laura Dee auf der Internorga (privat)
DESCRIPTION:Am Vorabend der Eröffnung der „Internorga“\, einer großen Foodmesse\, überraschen und inspirieren die Veranstalter die Gäste mit einer Reise durch die Welt – von kulinarischen & Entertainment Highlights bis zu interaktiven Aktionen.​\nIn einer neuen Location am Hafen starten wir symbolisch eine Cruise. Die Location ist in die 5 Kontinente aufgeteilt und der Gast bewegt sich in einer Welt der Kulinarik und Entertainment. \nRatet mal\, wer für Frankreich eingesetzt wird!
URL:https://lauradee.de/konzert/hamburg-laura-dee-auf-der-internorga-privat/
LOCATION:Hamburg\, HafenCity
END:VEVENT
END:VCALENDAR