BEGIN:VCALENDAR
VERSION:2.0
PRODID:-// - ECPv6.15.20//NONSGML v1.0//EN
CALSCALE:GREGORIAN
METHOD:PUBLISH
X-ORIGINAL-URL:https://lauradee.de
X-WR-CALDESC:Veranstaltungen für 
REFRESH-INTERVAL;VALUE=DURATION:PT1H
X-Robots-Tag:noindex
X-PUBLISHED-TTL:PT1H
BEGIN:VTIMEZONE
TZID:UTC
BEGIN:STANDARD
TZOFFSETFROM:+0000
TZOFFSETTO:+0000
TZNAME:UTC
DTSTART:20250101T000000
END:STANDARD
END:VTIMEZONE
BEGIN:VEVENT
DTSTART;TZID=UTC:20260308T130000
DTEND;TZID=UTC:20260308T150000
DTSTAMP:20260422T164237
CREATED:20260227T182736Z
LAST-MODIFIED:20260227T182736Z
UID:1028-1772974800-1772982000@lauradee.de
SUMMARY:Zusatzkonzert: Frauentag in Bensheim mit Laura Dee
DESCRIPTION:Mein 3. Frauentag in Bensheim! Ich freue mich riesig\, mit meinen mutigen Frauen im Gepäck gleich 2 Konzerte im PiPaPo-Kellertheater geben zu dürfen.
URL:https://lauradee.de/konzert/zusatzkonzert-frauentag-in-bensheim-mit-laura-dee/
LOCATION:PiPaPo-Kellertheater\, Wamboldter Hof\, Bensheim\, 64625
END:VEVENT
BEGIN:VEVENT
DTSTART;TZID=UTC:20260308T190000
DTEND;TZID=UTC:20260308T190000
DTSTAMP:20260422T164237
CREATED:20250706T202806Z
LAST-MODIFIED:20260227T182614Z
UID:498-1772996400-1772996400@lauradee.de
SUMMARY:Laura Dee in Bensheim
DESCRIPTION:Mein 3. Frauentag in Bensheim! Ich freue mich riesig\, mit meinen mutigen Frauen im Gepäck gleich 2 Konzerte im PiPaPo-Kellertheater geben zu dürfen.
URL:https://lauradee.de/konzert/laura-dee-im-pipapo/
LOCATION:PiPaPo-Kellertheater\, Wamboldter Hof\, Bensheim\, 64625
END:VEVENT
END:VCALENDAR