BEGIN:VCALENDAR
VERSION:2.0
PRODID:-// - ECPv6.15.20//NONSGML v1.0//EN
CALSCALE:GREGORIAN
METHOD:PUBLISH
X-ORIGINAL-URL:https://lauradee.de
X-WR-CALDESC:Veranstaltungen für 
REFRESH-INTERVAL;VALUE=DURATION:PT1H
X-Robots-Tag:noindex
X-PUBLISHED-TTL:PT1H
BEGIN:VTIMEZONE
TZID:UTC
BEGIN:STANDARD
TZOFFSETFROM:+0000
TZOFFSETTO:+0000
TZNAME:UTC
DTSTART:20250101T000000
END:STANDARD
END:VTIMEZONE
BEGIN:VEVENT
DTSTART;TZID=UTC:20260306T200000
DTEND;TZID=UTC:20260306T220000
DTSTAMP:20260422T163839
CREATED:20260121T112548Z
LAST-MODIFIED:20260227T181913Z
UID:998-1772827200-1772834400@lauradee.de
SUMMARY:Laura Dee beim Songslam Kreuzberg
DESCRIPTION:Ich bringe erneut den französischen Chanson in die Berliner Songwriterszene! Kommt vorbei und stimmt für mich! \n🥐 J’apporte à nouveau la chanson française dans la scène des Songwriter berlinois! Venez et votez pour moi!
URL:https://lauradee.de/konzert/laura-dee-beim-songslam-kreuzberg/
LOCATION:Privatclub\, Skalitzer Straße 85-86\, Berlin\, Berlin\, 10997\, Germany
END:VEVENT
END:VCALENDAR