BEGIN:VCALENDAR
VERSION:2.0
PRODID:-// - ECPv6.15.20//NONSGML v1.0//EN
CALSCALE:GREGORIAN
METHOD:PUBLISH
X-ORIGINAL-URL:https://lauradee.de
X-WR-CALDESC:Veranstaltungen für 
REFRESH-INTERVAL;VALUE=DURATION:PT1H
X-Robots-Tag:noindex
X-PUBLISHED-TTL:PT1H
BEGIN:VTIMEZONE
TZID:UTC
BEGIN:STANDARD
TZOFFSETFROM:+0000
TZOFFSETTO:+0000
TZNAME:UTC
DTSTART:20250101T000000
END:STANDARD
END:VTIMEZONE
BEGIN:VEVENT
DTSTART;TZID=UTC:20260117T200000
DTEND;TZID=UTC:20260117T220000
DTSTAMP:20260422T193007
CREATED:20260103T073917Z
LAST-MODIFIED:20260103T073917Z
UID:972-1768680000-1768687200@lauradee.de
SUMMARY:OUTED (Strasbourg) - support Laura Dee
DESCRIPTION:Ich lade ein entzückendes Duo aus Strasbourg ein – und sie kommen zu dritt! Mehr Info hier: \nhttps://www.mulackei.com/en/events/outed-laura-dee-2026-01-17-concert-chanson-pop-rock-francaise-mulackei-Piano
URL:https://lauradee.de/konzert/outed-strasbourg-support-laura-dee/
LOCATION:Mulackei\, Mulackstraße 27\, Berlin\, Berlin\, 10119\, Germany
END:VEVENT
END:VCALENDAR