BEGIN:VCALENDAR
VERSION:2.0
PRODID:-// - ECPv6.15.20//NONSGML v1.0//EN
CALSCALE:GREGORIAN
METHOD:PUBLISH
X-ORIGINAL-URL:https://lauradee.de
X-WR-CALDESC:Veranstaltungen für 
REFRESH-INTERVAL;VALUE=DURATION:PT1H
X-Robots-Tag:noindex
X-PUBLISHED-TTL:PT1H
BEGIN:VTIMEZONE
TZID:UTC
BEGIN:STANDARD
TZOFFSETFROM:+0000
TZOFFSETTO:+0000
TZNAME:UTC
DTSTART:20240101T000000
END:STANDARD
END:VTIMEZONE
BEGIN:VEVENT
DTSTART;TZID=UTC:20251213T200000
DTEND;TZID=UTC:20251213T220000
DTSTAMP:20260422T223115
CREATED:20250706T202331Z
LAST-MODIFIED:20251212T093218Z
UID:493-1765656000-1765663200@lauradee.de
SUMMARY:Berlin\,  SWART - French & Female Vibes
DESCRIPTION:Ein holländisches Café mit Sängerin als Besitzerin – klar blüht hier die Moabiter Musikszene! \nLaura Dee stellet „Courageuses“ der couragierten Besitzerin und dem ganzen Block vor und lädt einen charmanten Gast ein: \nVero Nouk! Die Singer-Songwriterin hat wie Laura Dee Französisch zu ihrer Gesangssprache erkoren. Sie ist bei Weitem kein unbeschriebenes Blatt: Sie hat nicht nur eine von der Initiative Musik geförderte EP veröffentlicht\, sondern heimst Preise für ihr Können ein: Chanson & Rockpreis der Gesellschaft Polonica 2024 und nächste Woche spielt sie im Finale des renommierten Songslam Neukölln um den Sieg! \nEintritt frei mit Spende.
URL:https://lauradee.de/konzert/laura-dee-frieda-lee-im-swart/
LOCATION:SWART\, Dreysestraße 17\, Berlin-Moabit
END:VEVENT
END:VCALENDAR