BEGIN:VCALENDAR
VERSION:2.0
PRODID:-// - ECPv6.15.20//NONSGML v1.0//EN
CALSCALE:GREGORIAN
METHOD:PUBLISH
X-ORIGINAL-URL:https://lauradee.de
X-WR-CALDESC:Veranstaltungen für 
REFRESH-INTERVAL;VALUE=DURATION:PT1H
X-Robots-Tag:noindex
X-PUBLISHED-TTL:PT1H
BEGIN:VTIMEZONE
TZID:UTC
BEGIN:STANDARD
TZOFFSETFROM:+0000
TZOFFSETTO:+0000
TZNAME:UTC
DTSTART:20240101T000000
END:STANDARD
END:VTIMEZONE
BEGIN:VEVENT
DTSTART;TZID=UTC:20251017T193000
DTEND;TZID=UTC:20251017T220000
DTSTAMP:20260423T011849
CREATED:20250605T084505Z
LAST-MODIFIED:20250923T134242Z
UID:476-1760729400-1760738400@lauradee.de
SUMMARY:"French & Female Vibes" Vol. II - Das Releasekonzert
DESCRIPTION:Am 17. Oktober erscheint mein Album. Nach dem letzten entscheidenden Brainstorming ist auch der Titel gefunden: „Courageuses“ – (Die) Mutigen (Frauen).\nDer Ticketverkauf hat begonnen! (Link zur Seite des Theater im Palais)\n\nLaura Dee & Frieda Lee – Record Release Konzert mit Gästinnen aus Frankreich!\n„French & Female Vibes“ ist ein Versprechen\, sich einen Abend lang in die Welt von Musikerinnen vertiefen zu dürfen\, die auf Französisch singen und ihren ganz eigenen Bezug zu Deutschland mitbringen:\n\nLaura Dee – Gesang\, Klavier\nFrieda Lee – Violoncello\n\nDelphine Maillard (Tours\, F) – Gesang\, Bass\n\nAlmée (Paris\, F) – Gesang\, Klavier\, Elektronik\n\n\nDante Parraguez – Percussion\nDirk Homuth – Gitarre\n\n\n\n\n\n\n\n\n\n\n\n\n\n\n\n\n\nLaura Dee ist Deutsche\, schreibt aber Chansons auf Französisch\, die klanglich schönste Sprache\, wie sie findet.\n\nIhr neues Album ist feministisch\, schwelgerisch und vielfältig\, ihre Frauenfiguren widersprüchlich:\nOb der unbeirrte Kampf einer Paralympics-Sportlerin\, das unheimliche Schicksal der Gisèle Pélicot oder das jähe Ende eines beschaulichen Leben als Berliner Terroristin im Untergrund: Deutschland und Frankreich treffen sich im Werk der humorvollen Kreuzberger Songwriterin und Pianistin\, die gerne ihre Chansons auf offenen Bühnen in Bordeaux und Berlin testet und sich mit spannenden Künstlerinnen aus der francophonen Szene umgibt.\nAm Cello begleitet sie seit Jahren Frieda Lee\, der tragende Streichersound des neuen Albums\, welches an diesem Abend im Theater im Palais sein offizielles Release erfährt. Frieda ist Berlinerin und hat die gesamte Soundpalette des Cellos zur Verfügung\, welches Lauras Liedern eine besondere Handschrift verleiht.\n\nDelphine Maillard\, die im März ihr 3. und bewegendes politisches Album « Quand les bombes troublent les rêves » veröffentlicht hat\, verleiht mit ihrem schwebendem Jazz-Pop ihren Geschichten stets in eine groovige Note. Ihre Stimme wird das Konzert mit ihrer E-Bass-Begleitung eröffnen.\n\n\nVerliebt in Worte ist die Pariser Künstlerin Almée\, die am Klavier Melodien komponiert\, welche das Ergebnis ihres intensiven Zuhörens sind. Sie mischt klassische mit elektronischer Musik. Ihr introspektiver Francopop lädt dazu ein\, das kollektive Unterbewusstsein zu entdecken.\n\nLaura Dee und Almée haben sich diesen Frühling in Paris getroffen und den Plan geschmiedet\, in einen lebendigen kulturellen Austausch zu treten: Laura träumt genauso davon\, ihre Chansons in Paris zu präsentieren\, wie Almée in Berlin.\nDelphine Maillard lebte 10 Jahre in Berlin\, bevor sie in diesem Jahr zurück nach Tours gezogen ist.\n\n\n\nwww.lauradee.de \nwww.delphinemaillard.com \nwww.iamalmee.com \n\n Sortie d’album – Courageuses📅 17 octobre 2025📍 Théâtre im Palais\, Berlin🕢 Début : 19h30⏳ Durée : env. 2h30\, avec pause après 70 minutes📸 Crédits photo : Lüder Lindau\, Meydenberg\, Marina Bourdais \nLaura Dee & Frieda Lee – Concert de sortie d’albumInvitées : Delphine Maillard\, Almée \nLaura Dee – chant\, pianoFrieda Lee – violoncelleDelphine Maillard (Tours\, FR) – chant\, basseAlmée (Paris\, FR) – chant\, piano\, électroniqueDante Parraguez – percussionsDirk Homuth – guitare \n\n🎶 French & Female Vibes – Une promesse : celle de plonger\, le temps d’une soirée\, dans l’univers de musiciennes francophones\, qui chantent en français et entretiennent un lien singulier avec l’Allemagne. \nLaura Dee\, artiste allemande\, écrit ses chansons en français – la plus belle langue du monde selon elle.Son nouvel album Courageuses est féministe\, lyrique et éclectique. On y rencontre des figures féminines fortes et complexes :– le combat inflexible d’une sportive paralympique\,– le destin mystérieux de Gisèle Pélicot\,– ou encore la chute brutale d’une terroriste berlinoise dans la clandestinité. \nLaura vit à Berlin-Kreuzberg et aime tester ses chansons sur scène\, que ce soit à Bordeaux ou à Berlin. Elle est accompagnée au violoncelle depuis plusieurs années par Frieda Lee\, dont le son profond et vibrant est au cœur du nouvel album\, présenté ce soir-là en avant-première. \nDelphine Maillard ouvrira la soirée en duo avec sa basse et sa voix puissante. Elle a sorti en mars son troisième album engagé Quand les bombes troublent les rêves\, entre jazz aérien et pop groovy. \nAlmée\, artiste parisienne amoureuse des mots\, compose au piano une musique introspective\, mêlant classique et électronique. Son francopop raffiné invite à explorer l’inconscient collectif. \nLaura Dee et Almée se sont rencontrées ce printemps à Paris et rêvent d’un échange culturel vivant entre les deux capitales.Delphine Maillard\, quant à elle\, a vécu dix ans à Berlin avant de revenir cette année à Tours. \nℹ️ Plus d’infos :🔗 www.lauradee.de🔗 www.delphinemaillard.com🔗 www.iamalmee.com
URL:https://lauradee.de/konzert/french-female-vibes-vol-ii-das-releasekonzert/
LOCATION:Theater im Palais\, Am Festungsgraben 1\, Berlin\, Berlin\, 10117
END:VEVENT
END:VCALENDAR