BEGIN:VCALENDAR
VERSION:2.0
PRODID:-// - ECPv6.15.20//NONSGML v1.0//EN
CALSCALE:GREGORIAN
METHOD:PUBLISH
X-ORIGINAL-URL:https://lauradee.de
X-WR-CALDESC:Veranstaltungen für 
REFRESH-INTERVAL;VALUE=DURATION:PT1H
X-Robots-Tag:noindex
X-PUBLISHED-TTL:PT1H
BEGIN:VTIMEZONE
TZID:UTC
BEGIN:STANDARD
TZOFFSETFROM:+0000
TZOFFSETTO:+0000
TZNAME:UTC
DTSTART:20240101T000000
END:STANDARD
END:VTIMEZONE
BEGIN:VEVENT
DTSTART;TZID=UTC:20251015T200000
DTEND;TZID=UTC:20251015T220000
DTSTAMP:20260423T011915
CREATED:20250731T132822Z
LAST-MODIFIED:20250928T131443Z
UID:769-1760558400-1760565600@lauradee.de
SUMMARY:Vin\, Vibes & Gesang  - Laura Dee au Songslam Neukölln
DESCRIPTION:Der Wettbewerb findet im Heimathafen Neukölln statt und gilt als der größte Songslam Deutschlands. In sechsminütigen Sets treten sechs Solo-Künstler*innen mit eigenen Songs gegeneinander an\, moderiert von den bekannten Berliner Lesebühnenautoren Tilman Birr und Piet Weber. Nach meiner erfolgreichen Teilnahme bei Arno Zillmer’s Open Mic erklimme ich damit nun die nächste Stufe des Berliner Sängerwettstreitformats und werfe französischen Chanson in den Ring – Kommt und unterstützt mich! \nLe concours aura lieu au Heimathafen Neukölln et est considéré comme le plus grand Songslam d’Allemagne. Six artistes en solo présentent leurs propres chansons dans des sets de six minutes\, animés par les auteurs berlinois Tilman Birr et Piet Weber. \nAprès ma participation réussie à l’Open Mic d’Arno Zillmer\, je franchis la prochaine étape de ce format de compétition berlinois et j’y lance la chanson français dans l’arène. \n👉 Venez nombreux et soutenez-moi – le public vote compte ! 🎶🇫🇷
URL:https://lauradee.de/konzert/wein-vibes-gesang-laura-dee-beim-songslam-neukoelln/
LOCATION:Heimathafen Neukölln\, Berlin
END:VEVENT
END:VCALENDAR