BEGIN:VCALENDAR
VERSION:2.0
PRODID:-// - ECPv6.15.20//NONSGML v1.0//EN
CALSCALE:GREGORIAN
METHOD:PUBLISH
X-ORIGINAL-URL:https://lauradee.de
X-WR-CALDESC:Veranstaltungen für 
REFRESH-INTERVAL;VALUE=DURATION:PT1H
X-Robots-Tag:noindex
X-PUBLISHED-TTL:PT1H
BEGIN:VTIMEZONE
TZID:UTC
BEGIN:STANDARD
TZOFFSETFROM:+0000
TZOFFSETTO:+0000
TZNAME:UTC
DTSTART:20240101T000000
END:STANDARD
END:VTIMEZONE
BEGIN:VEVENT
DTSTART;TZID=UTC:20251012T150000
DTEND;TZID=UTC:20251012T163000
DTSTAMP:20260423T041209
CREATED:20250929T124611Z
LAST-MODIFIED:20250929T124611Z
UID:841-1760281200-1760286600@lauradee.de
SUMMARY:Laura Dee bei der Französischen Woche Heidelberg
DESCRIPTION:Nachmittägliche Vorpremiere von „Courageuses“. Laura Dee spielt zum zweiten Mal bei der Französischen Woche Heidelberg und hat ihr frisches Album im Gepäck. Der zauberhafte Gartensaal des Völkerkundemuseums verfügt über ein echtes Klavier. \nAvant-première l’après-midi de « Courageuses » \nLaura Dee se produit pour la deuxième fois dans le cadre de la Semaine Française et présente son tout nouvel album. Le charmant salon de jardin du Musée d’ethnologie dispose d’un véritable piano – l’écrin idéal pour ses chansons.
URL:https://lauradee.de/konzert/laura-dee-bei-der-franzoesischen-woche-heidelberg/
LOCATION:Völkerkundemuseum Heidelberg\, Hauptstraße 235\,\, Heidelberg\, Baden-Württemberg\, 69117
ORGANIZER;CN="dfk - Deutsch Franz%C3%B6sischer Kreis":MAILTO:info@dfk-hd.de
END:VEVENT
END:VCALENDAR